BEGIN:VCALENDAR
VERSION:2.0
PRODID:-//Grundschule Königstein/Opf. - ECPv6.15.20//NONSGML v1.0//EN
CALSCALE:GREGORIAN
METHOD:PUBLISH
X-WR-CALNAME:Grundschule Königstein/Opf.
X-ORIGINAL-URL:https://www.gs-koenigstein.de
X-WR-CALDESC:Veranstaltungen für Grundschule Königstein/Opf.
REFRESH-INTERVAL;VALUE=DURATION:PT1H
X-Robots-Tag:noindex
X-PUBLISHED-TTL:PT1H
BEGIN:VTIMEZONE
TZID:Europe/Berlin
BEGIN:DAYLIGHT
TZOFFSETFROM:+0100
TZOFFSETTO:+0200
TZNAME:CEST
DTSTART:20240331T010000
END:DAYLIGHT
BEGIN:STANDARD
TZOFFSETFROM:+0200
TZOFFSETTO:+0100
TZNAME:CET
DTSTART:20241027T010000
END:STANDARD
BEGIN:DAYLIGHT
TZOFFSETFROM:+0100
TZOFFSETTO:+0200
TZNAME:CEST
DTSTART:20250330T010000
END:DAYLIGHT
BEGIN:STANDARD
TZOFFSETFROM:+0200
TZOFFSETTO:+0100
TZNAME:CET
DTSTART:20251026T010000
END:STANDARD
BEGIN:DAYLIGHT
TZOFFSETFROM:+0100
TZOFFSETTO:+0200
TZNAME:CEST
DTSTART:20260329T010000
END:DAYLIGHT
BEGIN:STANDARD
TZOFFSETFROM:+0200
TZOFFSETTO:+0100
TZNAME:CET
DTSTART:20261025T010000
END:STANDARD
BEGIN:DAYLIGHT
TZOFFSETFROM:+0100
TZOFFSETTO:+0200
TZNAME:CEST
DTSTART:20270328T010000
END:DAYLIGHT
BEGIN:STANDARD
TZOFFSETFROM:+0200
TZOFFSETTO:+0100
TZNAME:CET
DTSTART:20271031T010000
END:STANDARD
END:VTIMEZONE
BEGIN:VEVENT
DTSTART;TZID=Europe/Berlin:20260417T080000
DTEND;TZID=Europe/Berlin:20260417T094500
DTSTAMP:20260422T151907
CREATED:20251103T131921Z
LAST-MODIFIED:20251103T131921Z
UID:4946-1776412800-1776419100@www.gs-koenigstein.de
SUMMARY:Radfahren 4. Klasse - Übungseinheit 2
DESCRIPTION:
URL:https://www.gs-koenigstein.de/event/radfahren-4-klasse-uebungseinheit-2/
END:VEVENT
BEGIN:VEVENT
DTSTART;TZID=Europe/Berlin:20260415T092500
DTEND;TZID=Europe/Berlin:20260415T094500
DTSTAMP:20260422T151907
CREATED:20251012T144423Z
LAST-MODIFIED:20251012T144423Z
UID:4839-1776245100-1776246300@www.gs-koenigstein.de
SUMMARY:Gesundes Frühstück
DESCRIPTION:
URL:https://www.gs-koenigstein.de/event/gesundes-fruehstueck-20/
END:VEVENT
BEGIN:VEVENT
DTSTART;TZID=Europe/Berlin:20260414T083000
DTEND;TZID=Europe/Berlin:20260414T093000
DTSTAMP:20260422T151907
CREATED:20260322T135048Z
LAST-MODIFIED:20260322T135048Z
UID:5161-1776155400-1776159000@www.gs-koenigstein.de
SUMMARY:Übung 4. Klasse: Toter Winkel
DESCRIPTION:
URL:https://www.gs-koenigstein.de/event/uebung-4-klasse-toter-winkel/
END:VEVENT
BEGIN:VEVENT
DTSTART;TZID=Europe/Berlin:20260327T080000
DTEND;TZID=Europe/Berlin:20260327T094500
DTSTAMP:20260422T151907
CREATED:20251103T131837Z
LAST-MODIFIED:20251103T131837Z
UID:4944-1774598400-1774604700@www.gs-koenigstein.de
SUMMARY:Radfahren 4. Klasse - Übungseinheit 1
DESCRIPTION:
URL:https://www.gs-koenigstein.de/event/radfahren-4-klasse-uebungseinheit-1/
END:VEVENT
BEGIN:VEVENT
DTSTART;TZID=Europe/Berlin:20260325T190000
DTEND;TZID=Europe/Berlin:20260325T203000
DTSTAMP:20260422T151907
CREATED:20260302T173058Z
LAST-MODIFIED:20260302T173058Z
UID:5155-1774465200-1774470600@www.gs-koenigstein.de
SUMMARY:Elterninformationsabend zum Übertritt für die 3. Klasse in der Grundschule Neukirchen
DESCRIPTION:
URL:https://www.gs-koenigstein.de/event/elterninformationsabend-zum-uebertritt-fuer-die-3-klasse-in-der-grundschule-neukirchen/
END:VEVENT
BEGIN:VEVENT
DTSTART;TZID=Europe/Berlin:20260325T080000
DTEND;TZID=Europe/Berlin:20260325T111500
DTSTAMP:20260422T151907
CREATED:20251030T175710Z
LAST-MODIFIED:20251030T175710Z
UID:4942-1774425600-1774437300@www.gs-koenigstein.de
SUMMARY:Klasse 2000 in der 1. Klasse\, 2. Klasse\, 3. Klasse\, 4. Klasse
DESCRIPTION:
URL:https://www.gs-koenigstein.de/event/klasse-2000-in-der-1-klasse-2-klasse-3-klasse-4-klasse/
END:VEVENT
BEGIN:VEVENT
DTSTART;TZID=Europe/Berlin:20260323T094500
DTEND;TZID=Europe/Berlin:20260323T103000
DTSTAMP:20260422T151907
CREATED:20260302T173223Z
LAST-MODIFIED:20260302T173223Z
UID:5157-1774259100-1774261800@www.gs-koenigstein.de
SUMMARY:Preisverleihung Malwettbewerb
DESCRIPTION:
URL:https://www.gs-koenigstein.de/event/preisverleihung-malwettbewerb-3/
END:VEVENT
BEGIN:VEVENT
DTSTART;TZID=Europe/Berlin:20260318T120000
DTEND;TZID=Europe/Berlin:20260318T140000
DTSTAMP:20260422T151907
CREATED:20251119T152451Z
LAST-MODIFIED:20251119T152451Z
UID:4958-1773835200-1773842400@www.gs-koenigstein.de
SUMMARY:Schuleinschreibung
DESCRIPTION:
URL:https://www.gs-koenigstein.de/event/schuleinschreibung-5/
END:VEVENT
BEGIN:VEVENT
DTSTART;TZID=Europe/Berlin:20260306T140000
DTEND;TZID=Europe/Berlin:20260307T170000
DTSTAMP:20260422T151907
CREATED:20251022T163114Z
LAST-MODIFIED:20251022T163127Z
UID:4917-1772805600-1772902800@www.gs-koenigstein.de
SUMMARY:Frühjahrsbasar in der Grundschule
DESCRIPTION:
URL:https://www.gs-koenigstein.de/event/fruehjahrsbasar-in-der-grundschule/
END:VEVENT
BEGIN:VEVENT
DTSTART;TZID=Europe/Berlin:20260304T092500
DTEND;TZID=Europe/Berlin:20260304T094500
DTSTAMP:20260422T151907
CREATED:20251012T144339Z
LAST-MODIFIED:20251012T144339Z
UID:4837-1772616300-1772617500@www.gs-koenigstein.de
SUMMARY:Pausenverkauf
DESCRIPTION:
URL:https://www.gs-koenigstein.de/event/pausenverkauf-8/
END:VEVENT
BEGIN:VEVENT
DTSTART;TZID=Europe/Berlin:20260224T180000
DTEND;TZID=Europe/Berlin:20260224T200000
DTSTAMP:20260422T151907
CREATED:20260122T100314Z
LAST-MODIFIED:20260122T100314Z
UID:5030-1771956000-1771963200@www.gs-koenigstein.de
SUMMARY:Informationsabend für die Eltern unserer neuen Schulkinder (in der Grundschule Königstein)
DESCRIPTION:
URL:https://www.gs-koenigstein.de/event/informationsabend-fuer-die-eltern-unserer-neuen-schulkinder-in-der-grundschule-koenigstein-2/
END:VEVENT
BEGIN:VEVENT
DTSTART;TZID=Europe/Berlin:20260213T080000
DTEND;TZID=Europe/Berlin:20260213T130000
DTSTAMP:20260422T151907
CREATED:20251025T185946Z
LAST-MODIFIED:20251025T185946Z
UID:4933-1770969600-1770987600@www.gs-koenigstein.de
SUMMARY:Ausgabe der Zwischenzeugnisse
DESCRIPTION:
URL:https://www.gs-koenigstein.de/event/ausgabe-der-zwischenzeugnisse-3/
END:VEVENT
BEGIN:VEVENT
DTSTART;TZID=Europe/Berlin:20260213T080000
DTEND;TZID=Europe/Berlin:20260213T111500
DTSTAMP:20260422T151907
CREATED:20260122T100956Z
LAST-MODIFIED:20260122T100956Z
UID:5040-1770969600-1770981300@www.gs-koenigstein.de
SUMMARY:Mottowoche im Fasching: Freie Verkleidung!
DESCRIPTION:
URL:https://www.gs-koenigstein.de/event/mottowoche-im-fasching-freie-verkleidung-3/
END:VEVENT
BEGIN:VEVENT
DTSTART;TZID=Europe/Berlin:20260212T080000
DTEND;TZID=Europe/Berlin:20260212T130000
DTSTAMP:20260422T151907
CREATED:20260122T100839Z
LAST-MODIFIED:20260122T100839Z
UID:5038-1770883200-1770901200@www.gs-koenigstein.de
SUMMARY:Mottowoche im Fasching: Brillentag
DESCRIPTION:
URL:https://www.gs-koenigstein.de/event/mottowoche-im-fasching-brillentag-2/
END:VEVENT
BEGIN:VEVENT
DTSTART;TZID=Europe/Berlin:20260211T080000
DTEND;TZID=Europe/Berlin:20260211T130000
DTSTAMP:20260422T151907
CREATED:20260122T100719Z
LAST-MODIFIED:20260122T100719Z
UID:5036-1770796800-1770814800@www.gs-koenigstein.de
SUMMARY:Mottowoche im Fasching: Meine Güte - Schöne Hüte!
DESCRIPTION:
URL:https://www.gs-koenigstein.de/event/mottowoche-im-fasching-meine-guete-schoene-huete-2/
END:VEVENT
BEGIN:VEVENT
DTSTART;TZID=Europe/Berlin:20260210T080000
DTEND;TZID=Europe/Berlin:20260210T130000
DTSTAMP:20260422T151907
CREATED:20260122T100604Z
LAST-MODIFIED:20260122T100604Z
UID:5034-1770710400-1770728400@www.gs-koenigstein.de
SUMMARY:Mottowoche im Fasching: Schlafanzugtag
DESCRIPTION:
URL:https://www.gs-koenigstein.de/event/mottowoche-im-fasching-schlafanzugtag-2/
END:VEVENT
BEGIN:VEVENT
DTSTART;TZID=Europe/Berlin:20260209T080000
DTEND;TZID=Europe/Berlin:20260209T130000
DTSTAMP:20260422T151907
CREATED:20260122T100518Z
LAST-MODIFIED:20260122T100518Z
UID:5032-1770624000-1770642000@www.gs-koenigstein.de
SUMMARY:Mottowoche im Fasching: Blauer Montag
DESCRIPTION:
URL:https://www.gs-koenigstein.de/event/mottowoche-im-fasching-blauer-montag-3/
END:VEVENT
BEGIN:VEVENT
DTSTART;TZID=Europe/Berlin:20260204T092500
DTEND;TZID=Europe/Berlin:20260204T094500
DTSTAMP:20260422T151907
CREATED:20251012T144220Z
LAST-MODIFIED:20251012T144220Z
UID:4835-1770197100-1770198300@www.gs-koenigstein.de
SUMMARY:Gesundes Frühstück
DESCRIPTION:
URL:https://www.gs-koenigstein.de/event/gesundes-fruehstueck-19/
END:VEVENT
BEGIN:VEVENT
DTSTART;TZID=Europe/Berlin:20260123T080000
DTEND;TZID=Europe/Berlin:20260123T130000
DTSTAMP:20260422T151907
CREATED:20251025T190513Z
LAST-MODIFIED:20251025T190513Z
UID:4935-1769155200-1769173200@www.gs-koenigstein.de
SUMMARY:Ausgabe Zwischeninformation 4. Klasse
DESCRIPTION:
URL:https://www.gs-koenigstein.de/event/ausgabe-zwischeninformation-4-klasse/
END:VEVENT
BEGIN:VEVENT
DTSTART;TZID=Europe/Berlin:20260122T190000
DTEND;TZID=Europe/Berlin:20260122T210000
DTSTAMP:20260422T151907
CREATED:20251016T130923Z
LAST-MODIFIED:20251016T130923Z
UID:4885-1769108400-1769115600@www.gs-koenigstein.de
SUMMARY:Elterninformationsabend: Risiken und Chancen digitaler Endgeräte - Medien bewusst nutzen und Kinder schützen
DESCRIPTION:
URL:https://www.gs-koenigstein.de/event/elterninformationsabend-risiken-und-chancen-digitaler-endgeraete-medien-bewusst-nutzen-und-kinder-schuetzen/
END:VEVENT
BEGIN:VEVENT
DTSTART;TZID=Europe/Berlin:20260114T092500
DTEND;TZID=Europe/Berlin:20260114T094500
DTSTAMP:20260422T151907
CREATED:20251012T144136Z
LAST-MODIFIED:20251012T144136Z
UID:4833-1768382700-1768383900@www.gs-koenigstein.de
SUMMARY:Pausenverkauf
DESCRIPTION:
URL:https://www.gs-koenigstein.de/event/pausenverkauf-7/
END:VEVENT
BEGIN:VEVENT
DTSTART;TZID=Europe/Berlin:20251218T080000
DTEND;TZID=Europe/Berlin:20251218T111500
DTSTAMP:20260422T151907
CREATED:20251016T130316Z
LAST-MODIFIED:20251016T130704Z
UID:4879-1766044800-1766056500@www.gs-koenigstein.de
SUMMARY:Handballaktionstag in der Grundschule Königstein mit dem SG Auerbach/Pegnitz
DESCRIPTION:
URL:https://www.gs-koenigstein.de/event/handballaktionstag-in-der-grundschule-koenigstein/
END:VEVENT
BEGIN:VEVENT
DTSTART;TZID=Europe/Berlin:20251217T080000
DTEND;TZID=Europe/Berlin:20251217T130000
DTSTAMP:20260422T151907
CREATED:20251012T150439Z
LAST-MODIFIED:20251012T150439Z
UID:4855-1765958400-1765976400@www.gs-koenigstein.de
SUMMARY:Theaterfahrt nach Nürnberg (Theater: Salz und Pfeffer)
DESCRIPTION:
URL:https://www.gs-koenigstein.de/event/theaterfahrt-nach-nuernberg-theater-salz-und-pfeffer/
END:VEVENT
BEGIN:VEVENT
DTSTART;TZID=Europe/Berlin:20251205T094500
DTEND;TZID=Europe/Berlin:20251205T111500
DTSTAMP:20260422T151907
CREATED:20251012T145319Z
LAST-MODIFIED:20251012T145319Z
UID:4853-1764927900-1764933300@www.gs-koenigstein.de
SUMMARY:Der Nikolaus kommt in die Grundschule
DESCRIPTION:
URL:https://www.gs-koenigstein.de/event/der-nikolaus-kommt-in-die-grundschule/
END:VEVENT
BEGIN:VEVENT
DTSTART;TZID=Europe/Berlin:20251203T092500
DTEND;TZID=Europe/Berlin:20251203T094500
DTSTAMP:20260422T151907
CREATED:20251012T144040Z
LAST-MODIFIED:20251012T144040Z
UID:4831-1764753900-1764755100@www.gs-koenigstein.de
SUMMARY:Gesundes Frühstück
DESCRIPTION:
URL:https://www.gs-koenigstein.de/event/gesundes-fruehstueck-18/
END:VEVENT
BEGIN:VEVENT
DTSTART;TZID=Europe/Berlin:20251129T170000
DTEND;TZID=Europe/Berlin:20251129T200000
DTSTAMP:20260422T151907
CREATED:20251012T144849Z
LAST-MODIFIED:20251012T144849Z
UID:4847-1764435600-1764446400@www.gs-koenigstein.de
SUMMARY:Weihnachtsmarkt Königstein
DESCRIPTION:
URL:https://www.gs-koenigstein.de/event/weihnachtsmarkt-koenigstein/
END:VEVENT
BEGIN:VEVENT
DTSTART;TZID=Europe/Berlin:20251128T080000
DTEND;TZID=Europe/Berlin:20251128T110000
DTSTAMP:20260422T151907
CREATED:20251012T145127Z
LAST-MODIFIED:20251012T145127Z
UID:4851-1764316800-1764327600@www.gs-koenigstein.de
SUMMARY:Elternbeirat kommt zum Backen in die Schule für den Weihnachtsmarkt
DESCRIPTION:
URL:https://www.gs-koenigstein.de/event/elternbeirat-kommt-zum-backen-in-die-schule-fuer-den-weihnachtsmarkt/
END:VEVENT
BEGIN:VEVENT
DTSTART;TZID=Europe/Berlin:20251126T094500
DTEND;TZID=Europe/Berlin:20251126T103000
DTSTAMP:20260422T151907
CREATED:20250920T103114Z
LAST-MODIFIED:20250920T103114Z
UID:4766-1764150300-1764153000@www.gs-koenigstein.de
SUMMARY:Klasse 2000 in der 2. Klasse
DESCRIPTION:
URL:https://www.gs-koenigstein.de/event/klasse-2000-in-der-2-klasse-5/
END:VEVENT
BEGIN:VEVENT
DTSTART;TZID=Europe/Berlin:20251126T084000
DTEND;TZID=Europe/Berlin:20251126T092500
DTSTAMP:20260422T151907
CREATED:20250920T103027Z
LAST-MODIFIED:20250920T103027Z
UID:4764-1764146400-1764149100@www.gs-koenigstein.de
SUMMARY:Klasse 2000 in der 4. Klasse
DESCRIPTION:
URL:https://www.gs-koenigstein.de/event/klasse-2000-in-der-4-klasse-4/
END:VEVENT
BEGIN:VEVENT
DTSTART;TZID=Europe/Berlin:20251126T075500
DTEND;TZID=Europe/Berlin:20251126T084000
DTSTAMP:20260422T151907
CREATED:20250920T102938Z
LAST-MODIFIED:20250920T102938Z
UID:4762-1764143700-1764146400@www.gs-koenigstein.de
SUMMARY:Klasse 2000 in der 3. Klasse
DESCRIPTION:
URL:https://www.gs-koenigstein.de/event/klasse-2000-in-der-3-klasse-4/
END:VEVENT
END:VCALENDAR